BEGIN:VCALENDAR
VERSION:2.0
PRODID:-//Real Federación Colombófila Española - ECPv6.15.17.1//NONSGML v1.0//EN
CALSCALE:GREGORIAN
METHOD:PUBLISH
X-WR-CALNAME:Real Federación Colombófila Española
X-ORIGINAL-URL:https://www.realfede.com
X-WR-CALDESC:Eventos para Real Federación Colombófila Española
REFRESH-INTERVAL;VALUE=DURATION:PT1H
X-Robots-Tag:noindex
X-PUBLISHED-TTL:PT1H
BEGIN:VTIMEZONE
TZID:UTC
BEGIN:STANDARD
TZOFFSETFROM:+0000
TZOFFSETTO:+0000
TZNAME:UTC
DTSTART:20230101T000000
END:STANDARD
END:VTIMEZONE
BEGIN:VEVENT
DTSTART;VALUE=DATE:20240529
DTEND;VALUE=DATE:20240530
DTSTAMP:20260421T021048
CREATED:20240529T120258Z
LAST-MODIFIED:20240529T192155Z
UID:28324-1716940800-1717027199@www.realfede.com
SUMMARY:Asamblea General Ordinaria del Comité Olímpico Español
DESCRIPTION:Asistencia de D. Pedro Blanco a la Asamblea General Ordinaria del Comité Olímpico Español.\n\n			\n				\n			\n			\n				\n			\n			\n				\n			\n		\n\n\nDistinciones 2023 del Comité Olímpico Español.\nD. Alejandro Blanco hace entrega a D. Juan J. Bisbal Antich\, Vicepresidente del CC La Esportiva Missatgera\, la Placa Olímpica al Mérito Deportivo.\n\n			\n				\n			\n			\n				\n			\n			\n				\n			\n			\n				\n			\n			\n				\n			\n			\n				\n			\n			\n				\n			\n			\n				\n			\n			\n				\n			\n			\n				\n			\n			\n				\n			\n		\n\n\n\nD. Alejandro Blanco\, Presidente del COE\, junto con D. Pedro Blanco\, Presidente de esta RFCE.\n \n\nD. Pedro Blanco\, junto con D. Juan J. Bisbal\, en la sede del COE\, con la placa otorgada al CC La Esportiva Missatgera.
URL:https://www.realfede.com/event/asamblea-general-ordinaria-del-comite-olimpico-espanol/
LOCATION:A Coruña
ATTACH;FMTTYPE=image/jpeg:https://www.realfede.com/wp-content/uploads/2024/05/Asistencia-de-D.-Pedro-Blanco-a-la-Asamblea-General-Ordinaria-del-Comite-Olimpico-Espanol-1.jpg
END:VEVENT
BEGIN:VEVENT
DTSTART;VALUE=DATE:20241129
DTEND;VALUE=DATE:20241201
DTSTAMP:20260421T021048
CREATED:20241113T180943Z
LAST-MODIFIED:20241121T122044Z
UID:31030-1732838400-1733011199@www.realfede.com
SUMMARY:Congreso Nacional de Jueces
DESCRIPTION:Descargar: \n Programa Congreso Nacional de Jueces\n Hotel Congreso Nacional de Jueces\n Oficio Congreso Nacional de Jueces\n CARTEL CONGRESO NACIONAL DE JUECES COLOMBÓFILOS
URL:https://www.realfede.com/event/congreso-nacional-de-jueces/
LOCATION:Hotel Bardo Recoletos Coco\, Av. de los Agustinos Recoletos\, 44\, Salamanca\, Salamanca\, 37005\, Spain
ATTACH;FMTTYPE=image/jpeg:https://www.realfede.com/wp-content/uploads/2024/11/CONGRESO-DE-JUECES-COLOMBOFILOS_page-0001-scaled.jpg
ORGANIZER;CN="Real Federaci%C3%B3n Colomb%C3%B3fila Espa%C3%B1ola":MAILTO:realfede@realfede.com
END:VEVENT
BEGIN:VEVENT
DTSTART;VALUE=DATE:20250115
DTEND;VALUE=DATE:20250120
DTSTAMP:20260421T021048
CREATED:20241226T133807Z
LAST-MODIFIED:20250117T123924Z
UID:31691-1736899200-1737331199@www.realfede.com
SUMMARY:XLIX Exposición Nacional e Ibérica de Colombofilia y Jornada Nacional de la Paloma Mensajera
DESCRIPTION:Descargar: \n Cartel XLIX Exposición Nacional e Ibérica de Colombofilia y Jornada Nacional de la Paloma Mensajera\n\nNORMATIVA\nDescargar: \n NORMATIVA XLIX EXPOSICIÓN NACIONAL DE LA PALOMA MENSAJERA\n\nWEB INTRODUCCIÓN DE PALOMAS \nMANUAL WEB EXPOSICIONES NACIONALES\nDescargar: \n Manual Web Exposiciones Nacionales\n\nINFORMACIÓN\nDescargar: \n Información XLIX Exposición Nacional e Ibérica de Colombofilia y Jornada Nacional de la Paloma Mensajera\n\nPROGRAMA\nDescargar: \n Programa XLIX Exposición Nacional e Ibérica de Colombofilia y Jornada Nacional de la Paloma Mensajera\n\nCENA\nDescargar: \n CENA DE GALA EXPOSICIÓN NACIONAL\n\nAUTOCARES\nDescargar: \n EXPOSICIÓN - Autocares
URL:https://www.realfede.com/event/xlix-exposicion-nacional-e-iberica-de-colombofilia-y-jornada-nacional-de-la-paloma-mensajera/
LOCATION:Ribadesella\, Arredondo\, Ribadesella\, Asturias\, 33595\, Spain
ATTACH;FMTTYPE=image/jpeg:https://www.realfede.com/wp-content/uploads/2024/12/Cartel-XLIX-Exposicion-Nacional-e-Iberica-de-Colombofilia-y-Jornada-Nacional-de-la-Paloma-Mensajera_page-0001-scaled.jpg
ORGANIZER;CN="Real Federaci%C3%B3n Colomb%C3%B3fila Espa%C3%B1ola":MAILTO:realfede@realfede.com
END:VEVENT
BEGIN:VEVENT
DTSTART;VALUE=DATE:20250926
DTEND;VALUE=DATE:20250929
DTSTAMP:20260421T021048
CREATED:20250919T122900Z
LAST-MODIFIED:20250919T123219Z
UID:35273-1758844800-1759103999@www.realfede.com
SUMMARY:Curso de Jueces en Tenerife
DESCRIPTION:Descargar: \n CONVOCATORIA CURSO DE JUECES TENERIFE
URL:https://www.realfede.com/event/curso-de-jueces-en-tenerife/
LOCATION:Restaurante El Bosque\, Calle Carril Alto\, 2\, BAJO;LOCAL\, Tacoronte\, Santa Cruz de Tenerife\, 38355\, Spain
ATTACH;FMTTYPE=image/jpeg:https://www.realfede.com/wp-content/uploads/2020/07/Cat-CSD-Jurídico.jpg
ORGANIZER;CN="Real Federaci%C3%B3n Colomb%C3%B3fila Espa%C3%B1ola":MAILTO:realfede@realfede.com
END:VEVENT
BEGIN:VEVENT
DTSTART;VALUE=DATE:20251017
DTEND;VALUE=DATE:20251020
DTSTAMP:20260421T021048
CREATED:20250919T123640Z
LAST-MODIFIED:20250919T123640Z
UID:35276-1760659200-1760918399@www.realfede.com
SUMMARY:Curso de Jueces en Santiago de Compostela
DESCRIPTION:Descargar: \n CONVOCATORIA CURSO DE JUECES SGO COMPOSTELA
URL:https://www.realfede.com/event/curso-de-jueces-en-santiago-de-compostela/
LOCATION:Hotel Santiago Apóstol\, Costa de San Marcos\, 1\, La Coruña\, Galicia\, 15820\, España
ATTACH;FMTTYPE=image/jpeg:https://www.realfede.com/wp-content/uploads/2020/07/Cat-CSD-Jurídico.jpg
ORGANIZER;CN="Real Federaci%C3%B3n Colomb%C3%B3fila Espa%C3%B1ola":MAILTO:realfede@realfede.com
END:VEVENT
BEGIN:VEVENT
DTSTART;VALUE=DATE:20251017
DTEND;VALUE=DATE:20251020
DTSTAMP:20260421T021048
CREATED:20250919T124425Z
LAST-MODIFIED:20251013T125822Z
UID:35278-1760659200-1760918399@www.realfede.com
SUMMARY:Curso de Jueces en Sevilla
DESCRIPTION:Descargar: \n CONVOCATORIA CURSO SEVILLA
URL:https://www.realfede.com/event/curso-de-jueces-en-sevilla/
LOCATION:Federación Colombófila Andaluza\, Calle Baleares\, Nave 17\, Salteras - Polígono Los Llanos\, Sevilla\, 41909\, Spain
ATTACH;FMTTYPE=image/jpeg:https://www.realfede.com/wp-content/uploads/2020/07/Cat-CSD-Jurídico.jpg
ORGANIZER;CN="Real Federaci%C3%B3n Colomb%C3%B3fila Espa%C3%B1ola":MAILTO:realfede@realfede.com
END:VEVENT
BEGIN:VEVENT
DTSTART;VALUE=DATE:20251107
DTEND;VALUE=DATE:20251110
DTSTAMP:20260421T021048
CREATED:20251013T131043Z
LAST-MODIFIED:20251014T074836Z
UID:35380-1762473600-1762732799@www.realfede.com
SUMMARY:Curso de Jueces en Avilés
DESCRIPTION:Descargar: \n CURSO DE JUECES AVILES
URL:https://www.realfede.com/event/curso-de-jueces-en-aviles/
LOCATION:Complejo Deportivo Miranda\, Calle Villanueva\, 102\, Avilés\, Avilés\, 33410\, Spain
ATTACH;FMTTYPE=image/jpeg:https://www.realfede.com/wp-content/uploads/2020/07/Cat-CSD-Jurídico.jpg
ORGANIZER;CN="Real Federaci%C3%B3n Colomb%C3%B3fila Espa%C3%B1ola":MAILTO:realfede@realfede.com
END:VEVENT
BEGIN:VEVENT
DTSTART;VALUE=DATE:20251121
DTEND;VALUE=DATE:20251124
DTSTAMP:20260421T021048
CREATED:20250902T162141Z
LAST-MODIFIED:20251111T130435Z
UID:35245-1763683200-1763942399@www.realfede.com
SUMMARY:Congreso Nacional de Jueces
DESCRIPTION:  \n \n\nDescargar: \n CONGRESO NACIONAL DE JUECES\n CARTEL XII CONGRESO JUECES\n PROGRAMA DE ACTOS XII CONGRESO JUECES
URL:https://www.realfede.com/event/congreso-nacional-de-jueces-2/
LOCATION:Hotel OCA Puerta del Camino\, C/ Miguel Ferro Caaveiro\, s/n\, Santiago de Compostela\, A Coruña\, 15703\, Spain
ATTACH;FMTTYPE=image/jpeg:https://www.realfede.com/wp-content/uploads/2025/11/CARTEL-XII-CONGRESO-JUECES-scaled.jpg
ORGANIZER;CN="Real Federaci%C3%B3n Colomb%C3%B3fila Espa%C3%B1ola":MAILTO:realfede@realfede.com
END:VEVENT
BEGIN:VEVENT
DTSTART;VALUE=DATE:20251212
DTEND;VALUE=DATE:20251215
DTSTAMP:20260421T021048
CREATED:20251104T170904Z
LAST-MODIFIED:20251104T170904Z
UID:35516-1765497600-1765756799@www.realfede.com
SUMMARY:Curso de Jueces en Binissalem (Mallorca)
DESCRIPTION:Descargar: \n Convocatoria curso de jueces Binisalem (Mallorca)
URL:https://www.realfede.com/event/curso-de-jueces-en-binissalem-mallorca/
LOCATION:Casal de Cultura Can Gelabert\, Carrer de la Portella\, 0\, Binissalem\, Islas Baleares\, 07350\, Spain
ATTACH;FMTTYPE=image/jpeg:https://www.realfede.com/wp-content/uploads/2020/07/Cat-CSD-Jurídico.jpg
ORGANIZER;CN="Real Federaci%C3%B3n Colomb%C3%B3fila Espa%C3%B1ola":MAILTO:realfede@realfede.com
END:VEVENT
BEGIN:VEVENT
DTSTART;VALUE=DATE:20260107
DTEND;VALUE=DATE:20260112
DTSTAMP:20260421T021048
CREATED:20251209T163247Z
LAST-MODIFIED:20251212T161641Z
UID:35687-1767744000-1768175999@www.realfede.com
SUMMARY:L Exposición Nacional de la Paloma Mensajera
DESCRIPTION:Introducción de datos palomas L Exposición Nacional \nACCESO A INTRODUCCIÓN DE DATOS \n Manual Exposiciones Nacionales - 2026\n\nDescargar: \n NORMATIVA 2026 EXPOSICIÓN SANTIAGO DE COMPOSTELA 2026\n PROGRAMA DE ACTOS EXPOSICION FACEBOOK\n OFERTA\n CARTEL L EXPOSICIÓN NACIONAL DE LA PALOMA MENSAJERA
URL:https://www.realfede.com/event/l-exposicion-nacional-de-la-paloma-mensajera/
LOCATION:Hotel OCA Puerta del Camino\, C/ Miguel Ferro Caaveiro\, s/n\, Santiago de Compostela\, A Coruña\, 15703\, Spain
ATTACH;FMTTYPE=image/jpeg:https://www.realfede.com/wp-content/uploads/2025/12/Cartel-L-Exposicion-Nacional-de-la-Paloma-Mensajera_page-0001-scaled.jpg
ORGANIZER;CN="Real Federaci%C3%B3n Colomb%C3%B3fila Espa%C3%B1ola":MAILTO:realfede@realfede.com
END:VEVENT
END:VCALENDAR